BEGIN:VCALENDAR
VERSION:2.0
PRODID:-//Sabre//Sabre VObject 4.5.8//EN
CALSCALE:GREGORIAN
BEGIN:VEVENT
UID:sabre-vobject-123ef73a-4136-4dfd-aa3c-8023b1bf3b58
DTSTAMP:20260422T035948Z
SUMMARY:Aviation Industry Days  2024
DESCRIPTION:
X-ALT-DESC:FMTTYPE=text/html:<!DOCTYPE HTML PUBLIC "-//W3C//DTD HTML 3.2//E
 N"><HTML></HTML>
CREATED;TZID=America/Chicago:20240517T081746
URL;VALUE=URI:https://rucker.armymwr.com/calendar/event
DTSTART;TZID=America/Chicago:20240806T000000
DTEND;TZID=America/Chicago:20240808T000000
SEQUENCE:0
END:VEVENT
END:VCALENDAR
