BEGIN:VCALENDAR
VERSION:2.0
PRODID:-//Sabre//Sabre VObject 4.5.8//EN
CALSCALE:GREGORIAN
BEGIN:VEVENT
UID:sabre-vobject-53824cd6-0935-43bf-a630-b8e311ed7458
DTSTAMP:20260422T182142Z
SUMMARY:The Federal Jobs Workshop
DESCRIPTION:Jobs Workshop
X-ALT-DESC:FMTTYPE=text/html:<!DOCTYPE HTML PUBLIC "-//W3C//DTD HTML 3.2//E
 N"><HTML>Jobs Workshop</HTML>
CREATED;TZID=America/Chicago:20170913T134318
URL;VALUE=URI:https://rucker.armymwr.com/calendar/event
DTSTART;TZID=America/Chicago:20171102T080000
DTEND;TZID=America/Chicago:20171102T120000
SEQUENCE:0
END:VEVENT
END:VCALENDAR
