BEGIN:VCALENDAR
VERSION:2.0
PRODID:-//Sabre//Sabre VObject 4.5.8//EN
CALSCALE:GREGORIAN
BEGIN:VEVENT
UID:sabre-vobject-0cebdbc2-f5d6-4afb-9470-3c76223884c0
DTSTAMP:20260422T060709Z
SUMMARY:Dove Hunt
DESCRIPTION:Outdoor Recreation\n
X-ALT-DESC:FMTTYPE=text/html:<!DOCTYPE HTML PUBLIC "-//W3C//DTD HTML 3.2//E
 N"><HTML><p>Outdoor Recreation</p>\n</HTML>
CREATED;TZID=America/Chicago:20171018T080927
URL;VALUE=URI:https://rucker.armymwr.com/calendar/event
DTSTART;TZID=America/Chicago:20171021T000000
DTEND;TZID=America/Chicago:20171022T235959
SEQUENCE:0
END:VEVENT
END:VCALENDAR
