BEGIN:VCALENDAR
VERSION:2.0
PRODID:-//Sabre//Sabre VObject 4.5.8//EN
CALSCALE:GREGORIAN
BEGIN:VEVENT
UID:sabre-vobject-1197b9f8-4286-479f-9880-88cea107f567
DTSTAMP:20260422T031230Z
SUMMARY:Fort Rucker Big Buck Contest
DESCRIPTION:Participate in the Big Buck Contest!\n
X-ALT-DESC:FMTTYPE=text/html:<!DOCTYPE HTML PUBLIC "-//W3C//DTD HTML 3.2//E
 N"><HTML><p>Participate in the Big Buck Contest!</p>\n</HTML>
CREATED;TZID=America/Chicago:20171115T125815
URL;VALUE=URI:https://rucker.armymwr.com/calendar/event
DTSTART;TZID=America/Chicago:20171014T000000
DTEND;TZID=America/Chicago:20180210T235959
SEQUENCE:0
END:VEVENT
END:VCALENDAR
