BEGIN:VCALENDAR
VERSION:2.0
PRODID:-//Sabre//Sabre VObject 4.5.8//EN
CALSCALE:GREGORIAN
BEGIN:VEVENT
UID:sabre-vobject-36f89216-14d1-404c-a554-25578cca678f
DTSTAMP:20260422T184717Z
SUMMARY:Employment Readiness Program Workshop
DESCRIPTION:Employment Readiness
X-ALT-DESC:FMTTYPE=text/html:<!DOCTYPE HTML PUBLIC "-//W3C//DTD HTML 3.2//E
 N"><HTML>Employment Readiness</HTML>
CREATED;TZID=America/Chicago:20170913T134318
URL;VALUE=URI:https://rucker.armymwr.com/calendar/event
DTSTART;TZID=America/Chicago:20171012T090000
DTEND;TZID=America/Chicago:20171012T113000
SEQUENCE:0
END:VEVENT
END:VCALENDAR
