BEGIN:VCALENDAR
VERSION:2.0
PRODID:-//Sabre//Sabre VObject 4.5.8//EN
CALSCALE:GREGORIAN
BEGIN:VEVENT
UID:sabre-vobject-eb9524b7-c685-45fd-b2b3-fd119233fe76
DTSTAMP:20260423T004451Z
SUMMARY:Spouse Leadership Academy
DESCRIPTION:Leadership Academy
X-ALT-DESC:FMTTYPE=text/html:<!DOCTYPE HTML PUBLIC "-//W3C//DTD HTML 3.2//E
 N"><HTML>Leadership Academy</HTML>
CREATED;TZID=America/Chicago:20170913T134318
URL;VALUE=URI:https://rucker.armymwr.com/calendar/event
DTSTART;TZID=America/Chicago:20170919T081500
DTEND;TZID=America/Chicago:20170919T140000
SEQUENCE:0
END:VEVENT
END:VCALENDAR
