BEGIN:VCALENDAR
VERSION:2.0
PRODID:-//Sabre//Sabre VObject 4.5.8//EN
CALSCALE:GREGORIAN
BEGIN:VEVENT
UID:sabre-vobject-b65d03b3-2701-4c63-870b-e8efb28568e7
DTSTAMP:20260423T184246Z
SUMMARY:Fort Rucker Right Arm Night
DESCRIPTION:Right Arm Night\n
X-ALT-DESC:FMTTYPE=text/html:<!DOCTYPE HTML PUBLIC "-//W3C//DTD HTML 3.2//E
 N"><HTML><p>Right Arm Night</p>\n</HTML>
CREATED;TZID=America/Chicago:20170913T134318
URL;VALUE=URI:https://rucker.armymwr.com/calendar/event
DTSTART;TZID=America/Chicago:20170727T160000
DTEND;TZID=America/Chicago:20170727T180000
SEQUENCE:0
END:VEVENT
END:VCALENDAR
