BEGIN:VCALENDAR
VERSION:2.0
PRODID:-//Sabre//Sabre VObject 4.5.8//EN
CALSCALE:GREGORIAN
BEGIN:VEVENT
UID:sabre-vobject-b1c8164b-276e-49fa-926d-522d84f832c4
DTSTAMP:20260423T221033Z
SUMMARY:The Federal Jobs Workshop
DESCRIPTION:Jobs Workshop\n
X-ALT-DESC:FMTTYPE=text/html:<!DOCTYPE HTML PUBLIC "-//W3C//DTD HTML 3.2//E
 N"><HTML><p>Jobs Workshop</p>\n</HTML>
CREATED;TZID=America/Chicago:20170913T134318
URL;VALUE=URI:https://rucker.armymwr.com/calendar/event
DTSTART;TZID=America/Chicago:20170713T080000
DTEND;TZID=America/Chicago:20170713T120000
SEQUENCE:0
END:VEVENT
END:VCALENDAR
