BEGIN:VCALENDAR
VERSION:2.0
PRODID:-//Sabre//Sabre VObject 4.5.8//EN
CALSCALE:GREGORIAN
BEGIN:VEVENT
UID:sabre-vobject-fb36e692-fb57-4bed-a5c0-6eff77afd7fa
DTSTAMP:20260424T221154Z
SUMMARY:Fort Rucker Triathlon 2017
DESCRIPTION:Triathlon 2017\n
X-ALT-DESC:FMTTYPE=text/html:<!DOCTYPE HTML PUBLIC "-//W3C//DTD HTML 3.2//E
 N"><HTML><p>Triathlon 2017</p>\n</HTML>
CREATED;TZID=America/Chicago:20170913T134318
URL;VALUE=URI:https://rucker.armymwr.com/calendar/event
DTSTART;TZID=America/Chicago:20170624T070000
DTEND;TZID=America/Chicago:20170624T130000
SEQUENCE:0
END:VEVENT
END:VCALENDAR
