BEGIN:VCALENDAR
VERSION:2.0
PRODID:-//Sabre//Sabre VObject 4.5.8//EN
CALSCALE:GREGORIAN
BEGIN:VEVENT
UID:sabre-vobject-b8d67fa1-393d-4d15-a2af-0cc13c6a19d9
DTSTAMP:20260424T221155Z
SUMMARY:Army Birthday Golf Tournament & Golf Ball Drop
DESCRIPTION:Golf Ball Drop\n
X-ALT-DESC:FMTTYPE=text/html:<!DOCTYPE HTML PUBLIC "-//W3C//DTD HTML 3.2//E
 N"><HTML><p>Golf Ball Drop</p>\n</HTML>
CREATED;TZID=America/Chicago:20170913T134318
URL;VALUE=URI:https://rucker.armymwr.com/calendar/event
DTSTART;TZID=America/Chicago:20170624T070000
DTEND;TZID=America/Chicago:20170624T080000
SEQUENCE:0
END:VEVENT
END:VCALENDAR
