BEGIN:VCALENDAR
VERSION:2.0
PRODID:-//Sabre//Sabre VObject 4.5.8//EN
CALSCALE:GREGORIAN
BEGIN:VEVENT
UID:sabre-vobject-550bdbf2-cbd2-46e3-b1f7-ea8b9ed7e8d2
DTSTAMP:20260425T195941Z
SUMMARY:Homeschool Q & A
DESCRIPTION:Center Library\n
X-ALT-DESC:FMTTYPE=text/html:<!DOCTYPE HTML PUBLIC "-//W3C//DTD HTML 3.2//E
 N"><HTML><p>Center Library</p>\n</HTML>
CREATED;TZID=America/Chicago:20170913T134318
URL;VALUE=URI:https://rucker.armymwr.com/calendar/event
DTSTART;TZID=America/Chicago:20170614T130000
DTEND;TZID=America/Chicago:20170614T143000
SEQUENCE:0
END:VEVENT
END:VCALENDAR
