BEGIN:VCALENDAR
VERSION:2.0
PRODID:-//Sabre//Sabre VObject 4.5.8//EN
CALSCALE:GREGORIAN
BEGIN:VEVENT
UID:sabre-vobject-a2a407e9-d700-466e-a503-5acf807c8f2a
DTSTAMP:20260425T035259Z
SUMMARY:Beach Body Bingo
DESCRIPTION:Beach Body Bingo Physical Fitness Center\n
X-ALT-DESC:FMTTYPE=text/html:<!DOCTYPE HTML PUBLIC "-//W3C//DTD HTML 3.2//E
 N"><HTML><p>Beach Body Bingo Physical Fitness Center</p>\n</HTML>
CREATED;TZID=America/Chicago:20170913T134318
URL;VALUE=URI:https://rucker.armymwr.com/calendar/event
DTSTART;TZID=America/Chicago:20170605T000000
DTEND;TZID=America/Chicago:20170605T235959
SEQUENCE:0
END:VEVENT
END:VCALENDAR
