BEGIN:VCALENDAR
VERSION:2.0
PRODID:-//Sabre//Sabre VObject 4.5.8//EN
CALSCALE:GREGORIAN
BEGIN:VEVENT
UID:sabre-vobject-d5d2a6d9-49f1-4259-865f-765d4bb7a84b
DTSTAMP:20260423T112302Z
SUMMARY:School Age Center Summer Camp
DESCRIPTION:School Age Center Summer Camp School Age Center\n
X-ALT-DESC:FMTTYPE=text/html:<!DOCTYPE HTML PUBLIC "-//W3C//DTD HTML 3.2//E
 N"><HTML><p>School Age Center Summer Camp School Age Center</p>\n</HTML>
CREATED;TZID=America/Chicago:20170913T134318
URL;VALUE=URI:https://rucker.armymwr.com/calendar/event
DTSTART;TZID=America/Chicago:20170530T000000
DTEND;TZID=America/Chicago:20170530T235959
SEQUENCE:0
END:VEVENT
END:VCALENDAR
