BEGIN:VCALENDAR
VERSION:2.0
PRODID:-//Sabre//Sabre VObject 4.5.8//EN
CALSCALE:GREGORIAN
BEGIN:VEVENT
UID:sabre-vobject-1cd732f4-2754-49b6-936e-22c7559964b1
DTSTAMP:20260421T230929Z
SUMMARY:Deep Sea Fishing Private Charter
DESCRIPTION:MWR Central\n
X-ALT-DESC:FMTTYPE=text/html:<!DOCTYPE HTML PUBLIC "-//W3C//DTD HTML 3.2//E
 N"><HTML><p>MWR Central</p>\n</HTML>
CREATED;TZID=America/Chicago:20180221T123050
URL;VALUE=URI:https://rucker.armymwr.com/calendar/event
DTSTART;TZID=America/Chicago:20180421T000000
DTEND;TZID=America/Chicago:20180421T235959
SEQUENCE:0
END:VEVENT
END:VCALENDAR
