BEGIN:VCALENDAR
VERSION:2.0
PRODID:-//Sabre//Sabre VObject 4.5.8//EN
CALSCALE:GREGORIAN
BEGIN:VEVENT
UID:sabre-vobject-0d190c1a-65b9-4d44-b072-5af2ba0a0eae
DTSTAMP:20260422T031240Z
SUMMARY:Deep Sea Fishing Day Trip: SOLD OUT
DESCRIPTION:MWR Central\n
X-ALT-DESC:FMTTYPE=text/html:<!DOCTYPE HTML PUBLIC "-//W3C//DTD HTML 3.2//E
 N"><HTML><p>MWR Central</p>\n</HTML>
CREATED;TZID=America/Chicago:20180413T081339
URL;VALUE=URI:https://rucker.armymwr.com/calendar/event
DTSTART;TZID=America/Chicago:20180421T000000
DTEND;TZID=America/Chicago:20180421T235959
SEQUENCE:0
END:VEVENT
END:VCALENDAR
