BEGIN:VCALENDAR
VERSION:2.0
PRODID:-//Sabre//Sabre VObject 4.5.8//EN
CALSCALE:GREGORIAN
BEGIN:VEVENT
UID:sabre-vobject-749e75b7-c5d9-4255-86e3-8908187e49dd
DTSTAMP:20260421T164346Z
SUMMARY:Deep Sea Fishing Private Charter
DESCRIPTION:MWR Central\n
X-ALT-DESC:FMTTYPE=text/html:<!DOCTYPE HTML PUBLIC "-//W3C//DTD HTML 3.2//E
 N"><HTML><p>MWR Central</p>\n</HTML>
CREATED;TZID=America/Chicago:20180221T134615
URL;VALUE=URI:https://rucker.armymwr.com/calendar/event
DTSTART;TZID=America/Chicago:20180512T000000
DTEND;TZID=America/Chicago:20180512T235959
SEQUENCE:0
END:VEVENT
END:VCALENDAR
