BEGIN:VCALENDAR
VERSION:2.0
PRODID:-//Sabre//Sabre VObject 4.5.8//EN
CALSCALE:GREGORIAN
BEGIN:VEVENT
UID:sabre-vobject-a74c4145-7d0b-419f-843f-be3ae521bcaf
DTSTAMP:20260420T125428Z
SUMMARY:Tap Takeover Omaha Brewing Company
DESCRIPTION:Mother Rucker&#39\;s\n
X-ALT-DESC:FMTTYPE=text/html:<!DOCTYPE HTML PUBLIC "-//W3C//DTD HTML 3.2//E
 N"><HTML><p>Mother Rucker&#39\;s</p>\n</HTML>
CREATED;TZID=America/Chicago:20180702T105156
URL;VALUE=URI:https://rucker.armymwr.com/calendar/event
DTSTART;TZID=America/Chicago:20180725T190000
DTEND;TZID=America/Chicago:20180725T210000
SEQUENCE:0
END:VEVENT
END:VCALENDAR
