BEGIN:VCALENDAR
VERSION:2.0
PRODID:-//Sabre//Sabre VObject 4.5.8//EN
CALSCALE:GREGORIAN
BEGIN:VEVENT
UID:sabre-vobject-e43c20a4-8900-4609-b77c-b99c0ab0717a
DTSTAMP:20260420T033407Z
SUMMARY:Mad Scientist Workshop
DESCRIPTION:Center Library\n
X-ALT-DESC:FMTTYPE=text/html:<!DOCTYPE HTML PUBLIC "-//W3C//DTD HTML 3.2//E
 N"><HTML><p>Center Library</p>\n</HTML>
CREATED;TZID=America/Chicago:20180627T155548
URL;VALUE=URI:https://rucker.armymwr.com/calendar/event
DTSTART;TZID=America/Chicago:20180816T153000
DTEND;TZID=America/Chicago:20180816T163000
SEQUENCE:0
END:VEVENT
BEGIN:VEVENT
UID:sabre-vobject-83b4c896-78ea-4547-804c-e9b754c2d397
DTSTAMP:20260420T033407Z
SUMMARY:Mad Scientist Workshop
DESCRIPTION:Center Library\n
X-ALT-DESC:FMTTYPE=text/html:<!DOCTYPE HTML PUBLIC "-//W3C//DTD HTML 3.2//E
 N"><HTML><p>Center Library</p>\n</HTML>
CREATED;TZID=America/Chicago:20180627T155548
URL;VALUE=URI:https://rucker.armymwr.com/calendar/event
DTSTART;TZID=America/Chicago:20180816T163000
DTEND;TZID=America/Chicago:20180816T173000
SEQUENCE:1
END:VEVENT
END:VCALENDAR
