BEGIN:VCALENDAR
VERSION:2.0
PRODID:-//Sabre//Sabre VObject 4.5.8//EN
CALSCALE:GREGORIAN
BEGIN:VEVENT
UID:sabre-vobject-46467973-e3fe-4bc8-8700-e2d7c7552e41
DTSTAMP:20260420T062100Z
SUMMARY:Deep Sea Fishing Day Trip
DESCRIPTION:MWR Central Day Trip\n
X-ALT-DESC:FMTTYPE=text/html:<!DOCTYPE HTML PUBLIC "-//W3C//DTD HTML 3.2//E
 N"><HTML><p>MWR Central Day Trip</p>\n</HTML>
CREATED;TZID=America/Chicago:20180530T112501
URL;VALUE=URI:https://rucker.armymwr.com/calendar/event
DTSTART;TZID=America/Chicago:20180804T000000
DTEND;TZID=America/Chicago:20180804T235959
SEQUENCE:0
END:VEVENT
END:VCALENDAR
