BEGIN:VCALENDAR
VERSION:2.0
PRODID:-//Sabre//Sabre VObject 4.5.8//EN
CALSCALE:GREGORIAN
BEGIN:VEVENT
UID:sabre-vobject-07e511f3-6fe3-4f5c-8b24-e3d5adcceae9
DTSTAMP:20260420T191735Z
SUMMARY:Homeschool Q & A Session
DESCRIPTION:Center Library\n
X-ALT-DESC:FMTTYPE=text/html:<!DOCTYPE HTML PUBLIC "-//W3C//DTD HTML 3.2//E
 N"><HTML><p>Center Library</p>\n</HTML>
CREATED;TZID=America/Chicago:20180530T110937
URL;VALUE=URI:https://rucker.armymwr.com/calendar/event
DTSTART;TZID=America/Chicago:20180718T113000
DTEND;TZID=America/Chicago:20180718T130000
SEQUENCE:0
END:VEVENT
END:VCALENDAR
