BEGIN:VCALENDAR
VERSION:2.0
PRODID:-//Sabre//Sabre VObject 4.5.8//EN
CALSCALE:GREGORIAN
BEGIN:VEVENT
UID:sabre-vobject-198ed39e-034f-4c88-9d97-d0a147fbab72
DTSTAMP:20260420T121911Z
SUMMARY:Teen Babysitter’s Course
DESCRIPTION:Youth Center\n
X-ALT-DESC:FMTTYPE=text/html:<!DOCTYPE HTML PUBLIC "-//W3C//DTD HTML 3.2//E
 N"><HTML><p>Youth Center</p>\n</HTML>
CREATED;TZID=America/Chicago:20180530T105116
URL;VALUE=URI:https://rucker.armymwr.com/calendar/event
DTSTART;TZID=America/Chicago:20180718T083000
DTEND;TZID=America/Chicago:20180718T163000
SEQUENCE:0
END:VEVENT
END:VCALENDAR
