BEGIN:VCALENDAR
VERSION:2.0
PRODID:-//Sabre//Sabre VObject 4.5.8//EN
CALSCALE:GREGORIAN
BEGIN:VEVENT
UID:sabre-vobject-b0b8a952-a2ab-4795-bad1-db90be840978
DTSTAMP:20260421T010245Z
SUMMARY:Ready\, Set\, Run! Registration
DESCRIPTION:Youth Sports\n
X-ALT-DESC:FMTTYPE=text/html:<!DOCTYPE HTML PUBLIC "-//W3C//DTD HTML 3.2//E
 N"><HTML><p>Youth Sports</p>\n</HTML>
CREATED;TZID=America/Chicago:20180530T104536
URL;VALUE=URI:https://rucker.armymwr.com/calendar/event
DTSTART;TZID=America/Chicago:20180701T000000
DTEND;TZID=America/Chicago:20180731T235959
SEQUENCE:0
END:VEVENT
END:VCALENDAR
