BEGIN:VCALENDAR
VERSION:2.0
PRODID:-//Sabre//Sabre VObject 4.5.8//EN
CALSCALE:GREGORIAN
BEGIN:VEVENT
UID:sabre-vobject-36e96cf9-5b9c-4d68-8a10-b3c10802a708
DTSTAMP:20260422T184646Z
SUMMARY:Summer Comedy Tour: SOLD OUT
DESCRIPTION:Featuring Carlos Mencia\, Trish Suhr\, Jordan Rock\, and Franci
 sco &quot\;Cisco&quot\; Duran\n
X-ALT-DESC:FMTTYPE=text/html:<!DOCTYPE HTML PUBLIC "-//W3C//DTD HTML 3.2//E
 N"><HTML><p>Featuring Carlos Mencia\, Trish Suhr\, Jordan Rock\, and Franc
 isco &quot\;Cisco&quot\; Duran</p>\n</HTML>
CREATED;TZID=America/Chicago:20180712T092415
URL;VALUE=URI:https://rucker.armymwr.com/calendar/event
DTSTART;TZID=America/Chicago:20180713T190000
DTEND;TZID=America/Chicago:20180713T210000
SEQUENCE:0
END:VEVENT
END:VCALENDAR
