BEGIN:VCALENDAR
VERSION:2.0
PRODID:-//Sabre//Sabre VObject 4.5.8//EN
CALSCALE:GREGORIAN
BEGIN:VEVENT
UID:sabre-vobject-19df08c1-ec08-4724-8f34-ece64c3ca04e
DTSTAMP:20260421T152011Z
SUMMARY:Newcomers' Welcome: CANCELED
DESCRIPTION:Newcomers&#39\; Welcome at The Landing\n
X-ALT-DESC:FMTTYPE=text/html:<!DOCTYPE HTML PUBLIC "-//W3C//DTD HTML 3.2//E
 N"><HTML><p>Newcomers&#39\; Welcome at The Landing</p>\n</HTML>
CREATED;TZID=America/Chicago:20180516T105256
URL;VALUE=URI:https://rucker.armymwr.com/calendar/event
DTSTART;TZID=America/Chicago:20180518T090000
DTEND;TZID=America/Chicago:20180518T113000
SEQUENCE:0
END:VEVENT
END:VCALENDAR
