BEGIN:VCALENDAR
VERSION:2.0
PRODID:-//Sabre//Sabre VObject 4.5.8//EN
CALSCALE:GREGORIAN
BEGIN:VEVENT
UID:sabre-vobject-15f79f07-4203-40d0-a856-d29abf978d88
DTSTAMP:20260423T131527Z
SUMMARY:Summer Reading Program: Movie Marathon
DESCRIPTION:Center Library\n
X-ALT-DESC:FMTTYPE=text/html:<!DOCTYPE HTML PUBLIC "-//W3C//DTD HTML 3.2//E
 N"><HTML><p>Center Library</p>\n</HTML>
CREATED;TZID=America/Chicago:20180508T153044
URL;VALUE=URI:https://rucker.armymwr.com/calendar/event
DTSTART;TZID=America/Chicago:20180711T000000
DTEND;TZID=America/Chicago:20180711T235959
SEQUENCE:0
END:VEVENT
END:VCALENDAR
