BEGIN:VCALENDAR
VERSION:2.0
PRODID:-//Sabre//Sabre VObject 4.5.8//EN
CALSCALE:GREGORIAN
BEGIN:VEVENT
UID:sabre-vobject-a302c23f-72a9-48a8-9e7d-2295380677c1
DTSTAMP:20260421T010244Z
SUMMARY:Summer Reading Program: Catapulting Through STEM
DESCRIPTION:Center Library\n
X-ALT-DESC:FMTTYPE=text/html:<!DOCTYPE HTML PUBLIC "-//W3C//DTD HTML 3.2//E
 N"><HTML><p>Center Library</p>\n</HTML>
CREATED;TZID=America/Chicago:20180508T152904
URL;VALUE=URI:https://rucker.armymwr.com/calendar/event
DTSTART;TZID=America/Chicago:20180628T140000
DTEND;TZID=America/Chicago:20180628T150000
SEQUENCE:0
END:VEVENT
END:VCALENDAR
