BEGIN:VCALENDAR
VERSION:2.0
PRODID:-//Sabre//Sabre VObject 4.5.8//EN
CALSCALE:GREGORIAN
BEGIN:VEVENT
UID:sabre-vobject-58f70c95-3eca-4b52-9364-ddf5808b59b1
DTSTAMP:20260421T010716Z
SUMMARY:Summer Reading Program: Skip Cain\, The Magic Guy
DESCRIPTION:Center Library\n
X-ALT-DESC:FMTTYPE=text/html:<!DOCTYPE HTML PUBLIC "-//W3C//DTD HTML 3.2//E
 N"><HTML><p>Center Library</p>\n</HTML>
CREATED;TZID=America/Chicago:20180508T152738
URL;VALUE=URI:https://rucker.armymwr.com/calendar/event
DTSTART;TZID=America/Chicago:20180621T160000
DTEND;TZID=America/Chicago:20180621T170000
SEQUENCE:0
END:VEVENT
END:VCALENDAR
