BEGIN:VCALENDAR
VERSION:2.0
PRODID:-//Sabre//Sabre VObject 4.5.8//EN
CALSCALE:GREGORIAN
BEGIN:VEVENT
UID:sabre-vobject-ff742b11-3950-4a8a-8e8c-9027615f19f5
DTSTAMP:20260420T234139Z
SUMMARY:Summer Reading Program: Animate Your Journey
DESCRIPTION:Center Library\n
X-ALT-DESC:FMTTYPE=text/html:<!DOCTYPE HTML PUBLIC "-//W3C//DTD HTML 3.2//E
 N"><HTML><p>Center Library</p>\n</HTML>
CREATED;TZID=America/Chicago:20180508T154535
URL;VALUE=URI:https://rucker.armymwr.com/calendar/event
DTSTART;TZID=America/Chicago:20180613T140000
DTEND;TZID=America/Chicago:20180613T160000
SEQUENCE:0
END:VEVENT
END:VCALENDAR
