BEGIN:VCALENDAR
VERSION:2.0
PRODID:-//Sabre//Sabre VObject 4.5.8//EN
CALSCALE:GREGORIAN
BEGIN:VEVENT
UID:sabre-vobject-4f99b7b9-48ad-4822-bd6a-fb4b25157aea
DTSTAMP:20260419T221027Z
SUMMARY:The Power of Music Class
DESCRIPTION:New Parent Support Program\n
X-ALT-DESC:FMTTYPE=text/html:<!DOCTYPE HTML PUBLIC "-//W3C//DTD HTML 3.2//E
 N"><HTML><p>New Parent Support Program</p>\n</HTML>
CREATED;TZID=America/Chicago:20180517T125727
URL;VALUE=URI:https://rucker.armymwr.com/calendar/event
DTSTART;TZID=America/Chicago:20180621T100000
DTEND;TZID=America/Chicago:20180621T110000
SEQUENCE:0
END:VEVENT
BEGIN:VEVENT
UID:sabre-vobject-762bd742-4c11-4e76-978f-2cd53f8fbdbb
DTSTAMP:20260419T221027Z
SUMMARY:The Power of Music Class
DESCRIPTION:New Parent Support Program\n
X-ALT-DESC:FMTTYPE=text/html:<!DOCTYPE HTML PUBLIC "-//W3C//DTD HTML 3.2//E
 N"><HTML><p>New Parent Support Program</p>\n</HTML>
CREATED;TZID=America/Chicago:20180517T125727
URL;VALUE=URI:https://rucker.armymwr.com/calendar/event
DTSTART;TZID=America/Chicago:20180712T100000
DTEND;TZID=America/Chicago:20180712T110000
SEQUENCE:1
END:VEVENT
BEGIN:VEVENT
UID:sabre-vobject-ea4df1c5-ffae-4b9c-b471-66dc434af427
DTSTAMP:20260419T221027Z
SUMMARY:The Power of Music Class
DESCRIPTION:New Parent Support Program\n
X-ALT-DESC:FMTTYPE=text/html:<!DOCTYPE HTML PUBLIC "-//W3C//DTD HTML 3.2//E
 N"><HTML><p>New Parent Support Program</p>\n</HTML>
CREATED;TZID=America/Chicago:20180517T125727
URL;VALUE=URI:https://rucker.armymwr.com/calendar/event
DTSTART;TZID=America/Chicago:20180816T100000
DTEND;TZID=America/Chicago:20180816T110000
SEQUENCE:2
END:VEVENT
END:VCALENDAR
