BEGIN:VCALENDAR
VERSION:2.0
PRODID:-//Sabre//Sabre VObject 4.5.8//EN
CALSCALE:GREGORIAN
BEGIN:VEVENT
UID:sabre-vobject-7bf91370-8780-492f-9c6f-0810d2630019
DTSTAMP:20260420T234141Z
SUMMARY:Quilts of Valor Workshops
DESCRIPTION:Arts and Crafts Center\n
X-ALT-DESC:FMTTYPE=text/html:<!DOCTYPE HTML PUBLIC "-//W3C//DTD HTML 3.2//E
 N"><HTML><p>Arts and Crafts Center</p>\n</HTML>
CREATED;TZID=America/Chicago:20180424T134429
URL;VALUE=URI:https://rucker.armymwr.com/calendar/event
DTSTART;TZID=America/Chicago:20180518T090000
DTEND;TZID=America/Chicago:20180518T140000
SEQUENCE:0
END:VEVENT
BEGIN:VEVENT
UID:sabre-vobject-fec3d24d-24ee-40a2-b39c-b8482446bd49
DTSTAMP:20260420T234141Z
SUMMARY:Quilts of Valor Workshops
DESCRIPTION:Arts and Crafts Center\n
X-ALT-DESC:FMTTYPE=text/html:<!DOCTYPE HTML PUBLIC "-//W3C//DTD HTML 3.2//E
 N"><HTML><p>Arts and Crafts Center</p>\n</HTML>
CREATED;TZID=America/Chicago:20180424T134429
URL;VALUE=URI:https://rucker.armymwr.com/calendar/event
DTSTART;TZID=America/Chicago:20180615T090000
DTEND;TZID=America/Chicago:20180615T140000
SEQUENCE:1
END:VEVENT
END:VCALENDAR
