BEGIN:VCALENDAR
VERSION:2.0
PRODID:-//Sabre//Sabre VObject 4.5.8//EN
CALSCALE:GREGORIAN
BEGIN:VEVENT
UID:sabre-vobject-35dc2d2a-95b2-49a2-a428-a364b7f79a73
DTSTAMP:20260421T211947Z
SUMMARY:Mugs for Mom
DESCRIPTION:Arts &amp\; Crafts Center\n
X-ALT-DESC:FMTTYPE=text/html:<!DOCTYPE HTML PUBLIC "-//W3C//DTD HTML 3.2//E
 N"><HTML><p>Arts &amp\; Crafts Center</p>\n</HTML>
CREATED;TZID=America/Chicago:20180418T105445
URL;VALUE=URI:https://rucker.armymwr.com/calendar/event
DTSTART;TZID=America/Chicago:20180428T130000
DTEND;TZID=America/Chicago:20180428T150000
SEQUENCE:0
END:VEVENT
END:VCALENDAR
