BEGIN:VCALENDAR
VERSION:2.0
PRODID:-//Sabre//Sabre VObject 4.5.8//EN
CALSCALE:GREGORIAN
BEGIN:VEVENT
UID:sabre-vobject-2b2d7988-850b-427d-88c9-c219d30dd173
DTSTAMP:20260421T212649Z
SUMMARY:Troy University Walking Tour
DESCRIPTION:Youth Center\n
X-ALT-DESC:FMTTYPE=text/html:<!DOCTYPE HTML PUBLIC "-//W3C//DTD HTML 3.2//E
 N"><HTML><p>Youth Center</p>\n</HTML>
CREATED;TZID=America/Chicago:20180417T161603
URL;VALUE=URI:https://rucker.armymwr.com/calendar/event
DTSTART;TZID=America/Chicago:20180421T083000
DTEND;TZID=America/Chicago:20180421T150000
SEQUENCE:0
END:VEVENT
END:VCALENDAR
