BEGIN:VCALENDAR
VERSION:2.0
PRODID:-//Sabre//Sabre VObject 4.5.8//EN
CALSCALE:GREGORIAN
BEGIN:VEVENT
UID:sabre-vobject-1030c225-2c64-4125-806a-83ea4ac0110a
DTSTAMP:20260421T211950Z
SUMMARY:Denim Day
DESCRIPTION:
X-ALT-DESC:FMTTYPE=text/html:<!DOCTYPE HTML PUBLIC "-//W3C//DTD HTML 3.2//E
 N"><HTML></HTML>
CREATED;TZID=America/Chicago:20180409T124902
URL;VALUE=URI:https://rucker.armymwr.com/calendar/event
DTSTART;TZID=America/Chicago:20180425T000000
DTEND;TZID=America/Chicago:20180425T235959
SEQUENCE:0
END:VEVENT
END:VCALENDAR
