BEGIN:VCALENDAR
VERSION:2.0
PRODID:-//Sabre//Sabre VObject 4.5.8//EN
CALSCALE:GREGORIAN
BEGIN:VEVENT
UID:sabre-vobject-fa6a435d-235e-450e-97c6-b82768e1d7a8
DTSTAMP:20260422T123931Z
SUMMARY:Cinco de Mayo Fiesta
DESCRIPTION:Mother Rucker&#39\;s\n
X-ALT-DESC:FMTTYPE=text/html:<!DOCTYPE HTML PUBLIC "-//W3C//DTD HTML 3.2//E
 N"><HTML><p>Mother Rucker&#39\;s</p>\n</HTML>
CREATED;TZID=America/Chicago:20180404T121256
URL;VALUE=URI:https://rucker.armymwr.com/calendar/event
DTSTART;TZID=America/Chicago:20180505T160000
DTEND;TZID=America/Chicago:20180505T230000
SEQUENCE:0
END:VEVENT
END:VCALENDAR
