BEGIN:VCALENDAR
VERSION:2.0
PRODID:-//Sabre//Sabre VObject 4.5.8//EN
CALSCALE:GREGORIAN
BEGIN:VEVENT
UID:sabre-vobject-a764a3ab-f3ce-41c8-8de3-92bd692580a6
DTSTAMP:20260421T013144Z
SUMMARY:Army Birthday Cake Cutting
DESCRIPTION:The Landing\n
X-ALT-DESC:FMTTYPE=text/html:<!DOCTYPE HTML PUBLIC "-//W3C//DTD HTML 3.2//E
 N"><HTML><p>The Landing</p>\n</HTML>
CREATED;TZID=America/Chicago:20180404T121958
URL;VALUE=URI:https://rucker.armymwr.com/calendar/event
DTSTART;TZID=America/Chicago:20180614T120000
DTEND;TZID=America/Chicago:20180614T130000
SEQUENCE:0
END:VEVENT
END:VCALENDAR
