BEGIN:VCALENDAR
VERSION:2.0
PRODID:-//Sabre//Sabre VObject 4.5.8//EN
CALSCALE:GREGORIAN
BEGIN:VEVENT
UID:sabre-vobject-bb61c696-c086-45f8-ad96-0c2acfbd9b3e
DTSTAMP:20260422T035949Z
SUMMARY:Basketball Skills Camp
DESCRIPTION:SHARP/CYS\n
X-ALT-DESC:FMTTYPE=text/html:<!DOCTYPE HTML PUBLIC "-//W3C//DTD HTML 3.2//E
 N"><HTML><p>SHARP/CYS</p>\n</HTML>
CREATED;TZID=America/Chicago:20180330T123205
URL;VALUE=URI:https://rucker.armymwr.com/calendar/event
DTSTART;TZID=America/Chicago:20180414T080000
DTEND;TZID=America/Chicago:20180414T133000
SEQUENCE:0
END:VEVENT
END:VCALENDAR
