BEGIN:VCALENDAR
VERSION:2.0
PRODID:-//Sabre//Sabre VObject 4.5.8//EN
CALSCALE:GREGORIAN
BEGIN:VEVENT
UID:sabre-vobject-b4497539-2805-46cc-aa71-391b5e9f46d5
DTSTAMP:20260422T041319Z
SUMMARY:Thunder on Tholocco
DESCRIPTION:Lake Tholocco\n
X-ALT-DESC:FMTTYPE=text/html:<!DOCTYPE HTML PUBLIC "-//W3C//DTD HTML 3.2//E
 N"><HTML><p>Lake Tholocco</p>\n</HTML>
CREATED;TZID=America/Chicago:20180330T104820
URL;VALUE=URI:https://rucker.armymwr.com/calendar/event
DTSTART;TZID=America/Chicago:20180414T110000
DTEND;TZID=America/Chicago:20180414T170000
SEQUENCE:0
END:VEVENT
END:VCALENDAR
