BEGIN:VCALENDAR
VERSION:2.0
PRODID:-//Sabre//Sabre VObject 4.5.8//EN
CALSCALE:GREGORIAN
BEGIN:VEVENT
UID:sabre-vobject-e3f238ff-5e6d-4923-9315-881ff18cdb5e
DTSTAMP:20260422T053536Z
SUMMARY:Family Readiness Liaison Training
DESCRIPTION:Family Readiness Liaison Training\n
X-ALT-DESC:FMTTYPE=text/html:<!DOCTYPE HTML PUBLIC "-//W3C//DTD HTML 3.2//E
 N"><HTML><p>Family Readiness Liaison Training</p>\n</HTML>
CREATED;TZID=America/Chicago:20180321T125935
URL;VALUE=URI:https://rucker.armymwr.com/calendar/event
DTSTART;TZID=America/Chicago:20180411T083000
DTEND;TZID=America/Chicago:20180411T113000
SEQUENCE:0
END:VEVENT
END:VCALENDAR
