BEGIN:VCALENDAR
VERSION:2.0
PRODID:-//Sabre//Sabre VObject 4.5.8//EN
CALSCALE:GREGORIAN
BEGIN:VEVENT
UID:sabre-vobject-1d879af0-a277-4dab-9caf-7c381d5fc9ba
DTSTAMP:20260423T002147Z
SUMMARY:St. Patrick's Day at Rucker Lanes
DESCRIPTION:St. Patrick&#39\;s Day at Rucker Lanes\n
X-ALT-DESC:FMTTYPE=text/html:<!DOCTYPE HTML PUBLIC "-//W3C//DTD HTML 3.2//E
 N"><HTML><p>St. Patrick&#39\;s Day at Rucker Lanes</p>\n</HTML>
CREATED;TZID=America/Chicago:20180307T161309
URL;VALUE=URI:https://rucker.armymwr.com/calendar/event
DTSTART;TZID=America/Chicago:20180317T100000
DTEND;TZID=America/Chicago:20180317T200000
SEQUENCE:0
END:VEVENT
END:VCALENDAR
