BEGIN:VCALENDAR
VERSION:2.0
PRODID:-//Sabre//Sabre VObject 4.5.8//EN
CALSCALE:GREGORIAN
BEGIN:VEVENT
UID:sabre-vobject-ba467aab-0585-4aea-9829-a4ff18d2522f
DTSTAMP:20260423T232113Z
SUMMARY:Aviation Industry Days
DESCRIPTION:Aviation Industry Days\n
X-ALT-DESC:FMTTYPE=text/html:<!DOCTYPE HTML PUBLIC "-//W3C//DTD HTML 3.2//E
 N"><HTML><p>Aviation Industry Days</p>\n</HTML>
CREATED;TZID=America/Chicago:20180306T153505
URL;VALUE=URI:https://rucker.armymwr.com/calendar/event
DTSTART;TZID=America/Chicago:20180725T083000
DTEND;TZID=America/Chicago:20180725T163000
SEQUENCE:0
END:VEVENT
BEGIN:VEVENT
UID:sabre-vobject-fe391b89-6c29-4e03-9620-77f98be32e7a
DTSTAMP:20260423T232113Z
SUMMARY:Aviation Industry Days
DESCRIPTION:Aviation Industry Days\n
X-ALT-DESC:FMTTYPE=text/html:<!DOCTYPE HTML PUBLIC "-//W3C//DTD HTML 3.2//E
 N"><HTML><p>Aviation Industry Days</p>\n</HTML>
CREATED;TZID=America/Chicago:20180306T153505
URL;VALUE=URI:https://rucker.armymwr.com/calendar/event
DTSTART;TZID=America/Chicago:20180726T083000
DTEND;TZID=America/Chicago:20180726T163000
SEQUENCE:1
END:VEVENT
END:VCALENDAR
