BEGIN:VCALENDAR
VERSION:2.0
PRODID:-//Sabre//Sabre VObject 4.5.8//EN
CALSCALE:GREGORIAN
BEGIN:VEVENT
UID:sabre-vobject-6b761421-8368-4a5f-9dc9-c2ffe1f4a43f
DTSTAMP:20260422T034759Z
SUMMARY:Proclamation Signing by the Garrison Commander
DESCRIPTION:Proclamation Signing by the Garrison Commander\n
X-ALT-DESC:FMTTYPE=text/html:<!DOCTYPE HTML PUBLIC "-//W3C//DTD HTML 3.2//E
 N"><HTML><p>Proclamation Signing by the Garrison Commander</p>\n</HTML>
CREATED;TZID=America/Chicago:20180306T122738
URL;VALUE=URI:https://rucker.armymwr.com/calendar/event
DTSTART;TZID=America/Chicago:20180404T100000
DTEND;TZID=America/Chicago:20180404T110000
SEQUENCE:0
END:VEVENT
END:VCALENDAR
