BEGIN:VCALENDAR
VERSION:2.0
PRODID:-//Sabre//Sabre VObject 4.5.8//EN
CALSCALE:GREGORIAN
BEGIN:VEVENT
UID:sabre-vobject-2b98c94c-1c4d-4e91-854b-9629925c1103
DTSTAMP:20260422T053533Z
SUMMARY:EFMP Support Group
DESCRIPTION:EFMP Support Group\n
X-ALT-DESC:FMTTYPE=text/html:<!DOCTYPE HTML PUBLIC "-//W3C//DTD HTML 3.2//E
 N"><HTML><p>EFMP Support Group</p>\n</HTML>
CREATED;TZID=America/Chicago:20180301T104644
URL;VALUE=URI:https://rucker.armymwr.com/calendar/event
DTSTART;TZID=America/Chicago:20180419T113000
DTEND;TZID=America/Chicago:20180419T123000
SEQUENCE:0
END:VEVENT
END:VCALENDAR
