BEGIN:VCALENDAR
VERSION:2.0
PRODID:-//Sabre//Sabre VObject 4.5.8//EN
CALSCALE:GREGORIAN
BEGIN:VEVENT
UID:sabre-vobject-34970aa0-6136-49fd-a7b7-c128875bbee8
DTSTAMP:20260423T002152Z
SUMMARY:April Sexual Assault Awareness Prevention Month (SAAPM) Car Wash
DESCRIPTION:April Sexual Assault Awareness Prevention Month (SAAPM) Car Was
 h\n
X-ALT-DESC:FMTTYPE=text/html:<!DOCTYPE HTML PUBLIC "-//W3C//DTD HTML 3.2//E
 N"><HTML><p>April Sexual Assault Awareness Prevention Month (SAAPM) Car Wa
 sh</p>\n</HTML>
CREATED;TZID=America/Chicago:20180301T100016
URL;VALUE=URI:https://rucker.armymwr.com/calendar/event
DTSTART;TZID=America/Chicago:20180331T000000
DTEND;TZID=America/Chicago:20180331T235959
SEQUENCE:0
END:VEVENT
END:VCALENDAR
