BEGIN:VCALENDAR
VERSION:2.0
PRODID:-//Sabre//Sabre VObject 4.5.8//EN
CALSCALE:GREGORIAN
BEGIN:VEVENT
UID:sabre-vobject-a0464f1e-40ef-42c9-be28-32690eb91825
DTSTAMP:20260421T165219Z
SUMMARY:Literature and the Veteran Experience
DESCRIPTION:Literature and the Veteran Experience\n
X-ALT-DESC:FMTTYPE=text/html:<!DOCTYPE HTML PUBLIC "-//W3C//DTD HTML 3.2//E
 N"><HTML><p>Literature and the Veteran Experience</p>\n</HTML>
CREATED;TZID=America/Chicago:20180301T094817
URL;VALUE=URI:https://rucker.armymwr.com/calendar/event
DTSTART;TZID=America/Chicago:20180501T173000
DTEND;TZID=America/Chicago:20180501T183000
SEQUENCE:0
END:VEVENT
END:VCALENDAR
