BEGIN:VCALENDAR
VERSION:2.0
PRODID:-//Sabre//Sabre VObject 4.5.8//EN
CALSCALE:GREGORIAN
BEGIN:VEVENT
UID:sabre-vobject-8dee4945-9320-4222-886a-c6e615f4237f
DTSTAMP:20260422T033948Z
SUMMARY:National Autism Day
DESCRIPTION:National Autism Day-EFMP\n
X-ALT-DESC:FMTTYPE=text/html:<!DOCTYPE HTML PUBLIC "-//W3C//DTD HTML 3.2//E
 N"><HTML><p>National Autism Day-EFMP</p>\n</HTML>
CREATED;TZID=America/Chicago:20180309T092953
URL;VALUE=URI:https://rucker.armymwr.com/calendar/event
DTSTART;TZID=America/Chicago:20180402T090000
DTEND;TZID=America/Chicago:20180402T100000
SEQUENCE:0
END:VEVENT
END:VCALENDAR
