BEGIN:VCALENDAR
VERSION:2.0
PRODID:-//Sabre//Sabre VObject 4.5.8//EN
CALSCALE:GREGORIAN
BEGIN:VEVENT
UID:sabre-vobject-6ecccb82-7a66-4c37-953f-84b17e223475
DTSTAMP:20260422T041243Z
SUMMARY:Fit Fest
DESCRIPTION:Fit Fest at Fort Rucker Festival Fields\n
X-ALT-DESC:FMTTYPE=text/html:<!DOCTYPE HTML PUBLIC "-//W3C//DTD HTML 3.2//E
 N"><HTML><p>Fit Fest at Fort Rucker Festival Fields</p>\n</HTML>
CREATED;TZID=America/Chicago:20180403T100135
URL;VALUE=URI:https://rucker.armymwr.com/calendar/event
DTSTART;TZID=America/Chicago:20180413T090000
DTEND;TZID=America/Chicago:20180413T160000
SEQUENCE:0
END:VEVENT
END:VCALENDAR
