BEGIN:VCALENDAR
VERSION:2.0
PRODID:-//Sabre//Sabre VObject 4.5.8//EN
CALSCALE:GREGORIAN
BEGIN:VEVENT
UID:sabre-vobject-65c87038-b3d4-4371-b212-eff4475263bd
DTSTAMP:20260421T164347Z
SUMMARY:Escape Room
DESCRIPTION:Center Library\n
X-ALT-DESC:FMTTYPE=text/html:<!DOCTYPE HTML PUBLIC "-//W3C//DTD HTML 3.2//E
 N"><HTML><p>Center Library</p>\n</HTML>
CREATED;TZID=America/Chicago:20180221T131312
URL;VALUE=URI:https://rucker.armymwr.com/calendar/event
DTSTART;TZID=America/Chicago:20180503T173000
DTEND;TZID=America/Chicago:20180503T193000
SEQUENCE:0
END:VEVENT
BEGIN:VEVENT
UID:sabre-vobject-0d3c64d4-50ea-4022-9ce3-c6f19959089b
DTSTAMP:20260421T164347Z
SUMMARY:Escape Room
DESCRIPTION:Center Library\n
X-ALT-DESC:FMTTYPE=text/html:<!DOCTYPE HTML PUBLIC "-//W3C//DTD HTML 3.2//E
 N"><HTML><p>Center Library</p>\n</HTML>
CREATED;TZID=America/Chicago:20180221T131312
URL;VALUE=URI:https://rucker.armymwr.com/calendar/event
DTSTART;TZID=America/Chicago:20180501T173000
DTEND;TZID=America/Chicago:20180501T193000
SEQUENCE:1
END:VEVENT
END:VCALENDAR
