BEGIN:VCALENDAR
VERSION:2.0
PRODID:-//Sabre//Sabre VObject 4.5.8//EN
CALSCALE:GREGORIAN
BEGIN:VEVENT
UID:sabre-vobject-320bd09d-2d82-4cc5-ba75-f2d3f7627ed8
DTSTAMP:20260421T185625Z
SUMMARY:Tex Mex Comedy Tour
DESCRIPTION:Tex Mex Comedy Tour\n
X-ALT-DESC:FMTTYPE=text/html:<!DOCTYPE HTML PUBLIC "-//W3C//DTD HTML 3.2//E
 N"><HTML><p>Tex Mex Comedy Tour</p>\n</HTML>
CREATED;TZID=America/Chicago:20180212T141907
URL;VALUE=URI:https://rucker.armymwr.com/calendar/event
DTSTART;TZID=America/Chicago:20180504T180000
DTEND;TZID=America/Chicago:20180504T210000
SEQUENCE:0
END:VEVENT
END:VCALENDAR
