BEGIN:VCALENDAR
VERSION:2.0
PRODID:-//Sabre//Sabre VObject 4.5.8//EN
CALSCALE:GREGORIAN
BEGIN:VEVENT
UID:sabre-vobject-20bafddc-eab4-4ea4-8636-a532f615b6d1
DTSTAMP:20260423T182433Z
SUMMARY:Army Emergency Relief Scholarship Program
DESCRIPTION:Army Community Service\n
X-ALT-DESC:FMTTYPE=text/html:<!DOCTYPE HTML PUBLIC "-//W3C//DTD HTML 3.2//E
 N"><HTML><p>Army Community Service</p>\n</HTML>
CREATED;TZID=America/Chicago:20180206T155959
URL;VALUE=URI:https://rucker.armymwr.com/calendar/event
DTSTART;TZID=America/Chicago:20180206T000000
DTEND;TZID=America/Chicago:20180402T235959
SEQUENCE:0
END:VEVENT
END:VCALENDAR
