BEGIN:VCALENDAR
VERSION:2.0
PRODID:-//Sabre//Sabre VObject 4.5.8//EN
CALSCALE:GREGORIAN
BEGIN:VEVENT
UID:sabre-vobject-0a72052b-f643-4a5c-af9d-25ea9fcad5e7
DTSTAMP:20260423T074341Z
SUMMARY:CANCELED: Kickball Tournament
DESCRIPTION:Kickball Tournament\n
X-ALT-DESC:FMTTYPE=text/html:<!DOCTYPE HTML PUBLIC "-//W3C//DTD HTML 3.2//E
 N"><HTML><p>Kickball Tournament</p>\n</HTML>
CREATED;TZID=America/Chicago:20180302T141736
URL;VALUE=URI:https://rucker.armymwr.com/calendar/event
DTSTART;TZID=America/Chicago:20180303T080000
DTEND;TZID=America/Chicago:20180303T090000
SEQUENCE:0
END:VEVENT
END:VCALENDAR
